{"text_format":"1","workbook":"xlsx","n_sheets":4,"sheets":["DADOS","1º SEMESTRE","GRÁFICOS","GABARITO"],"not_rendered":{"charts":5,"images":0,"macros":0,"external_links":0,"defined_names":1,"comments":0,"pivot_tables":0},"unopened":[],"bounds":{"document_bytes":16777216,"sheet_cells":100000,"rows_first":2000,"rows_last":500,"rows_between":2000,"halvings":0,"cell_chars":16384,"cell_head_chars":4096},"cells_cut":0,"cells_raw":0,"read":"whole","date_system":"1900"}

{"sheet":"DADOS","index":0,"n_rows":59,"n_cols":9,"rows_kept":59,"cut":false,"hidden":false,"merged":[[50,1,50,5],[51,1,51,5],[52,1,52,5],[53,1,53,5],[54,1,54,5],[55,1,55,5],[56,1,56,5],[64,1,64,5],[65,1,65,5],[66,1,66,5],[57,1,57,5],[58,1,58,5],[59,0,59,8],[60,1,60,5],[61,1,61,5],[62,1,62,5],[63,1,63,5],[67,1,67,5],[68,1,68,5],[69,1,69,5],[70,1,70,5],[71,1,71,5],[0,0,0,8],[1,0,1,8],[2,0,2,8],[3,1,3,8],[4,1,4,8],[5,6,5,8],[7,1,7,5],[8,1,8,5],[9,1,9,5],[10,1,10,5],[6,1,6,8],[5,1,5,3],[11,1,11,5],[12,1,12,5],[13,1,13,5],[14,1,14,5],[15,1,15,5],[16,1,16,5],[17,1,17,5],[18,1,18,5],[19,1,19,5],[20,1,20,5],[21,1,21,5],[22,1,22,5],[23,1,23,5],[24,1,24,5],[25,1,25,5],[26,1,26,5],[27,1,27,5],[28,1,28,5],[29,1,29,5],[30,1,30,5],[31,1,31,5],[32,1,32,5],[33,1,33,5],[34,1,34,5],[35,1,35,5],[36,1,36,5],[37,1,37,5],[38,1,38,5],[39,1,39,5],[40,1,40,5],[46,1,46,5],[47,1,47,5],[48,1,48,5],[49,1,49,5],[41,1,41,5],[42,1,42,5],[43,1,43,5],[44,1,44,5],[45,1,45,5]]}
["ESTADO DE MATO GROSSO DO SUL"]
["PREFEITURA MUNICIPAL DE CAMPO GRANDE"]
["SECRETARIA MUNICIPAL DE EDUCAÇÃO"]
["ESCOLA:"]
["PROFESSOR:"]
["TURMA",null,null,null,"PERÍODO "]
["DISCIPLINA"]
["N. ","NOME",null,null,null,null,"DATA DE NASCIMENTO","IDADE","CASO TENHA LAUDO REGISTRE."]
[{"$f":"ROW(B9)-8","v":1},null,null,null,null,null,null,{"$f":"IF(G9=\"\",\"\",YEAR(TODAY())-YEAR(G9))","v":""}]
[{"$f":"ROW(B10)-8","v":2},null,null,null,null,null,null,""]
[3,null,null,null,null,null,null,""]
[4,null,null,null,null,null,null,""]
[5,null,null,null,null,null,null,""]
[6,null,null,null,null,null,null,""]
[7,null,null,null,null,null,null,""]
[8,null,null,null,null,null,null,""]
[9,null,null,null,null,null,null,""]
[10,null,null,null,null,null,null,""]
[11,null,null,null,null,null,null,""]
[12,null,null,null,null,null,null,""]
[13,null,null,null,null,null,null,""]
[14,null,null,null,null,null,null,""]
[15,null,null,null,null,null,null,""]
[16,null,null,null,null,null,null,""]
[17,null,null,null,null,null,null,""]
[18,null,null,null,null,null,null,""]
[19,null,null,null,null,null,null,""]
[20,null,null,null,null,null,null,""]
[21,null,null,null,null,null,null,""]
[22,null,null,null,null,null,null,""]
[23,null,null,null,null,null,null,""]
[24,null,null,null,null,null,null,""]
[25,null,null,null,null,null,null,""]
[26,null,null,null,null,null,null,""]
[27,null,null,null,null,null,null,""]
[28,null,null,null,null,null,null,""]
[29,null,null,null,null,null,null,""]
[30,null,null,null,null,null,null,""]
[31,null,null,null,null,null,null,""]
[32,null,null,null,null,null,null,""]
[33,null,null,null,null,null,null,""]
[34,null,null,null,null,null,null,""]
[35,null,null,null,null,null,null,""]
[36,null,null,null,null,null,null,""]
[37,null,null,null,null,null,null,""]
[38,null,null,null,null,null,null,""]
[39,null,null,null,null,null,null,""]
[40,null,null,null,null,null,null,""]
[41,null,null,null,null,null,null,""]
[42,null,null,null,null,null,null,""]
[43,null,null,null,null,null,null,""]
[44,null,null,null,null,null,null,""]
[45,null,null,null,null,null,null,""]
[46,null,null,null,null,null,null,""]
[47,null,null,null,null,null,null,""]
[48,null,null,null,null,null,null,""]
[49,null,null,null,null,null,null,""]
[50,null,null,null,null,null,null,""]
[51,null,null,null,null,null,null,""]

{"sheet":"1º SEMESTRE","index":1,"n_rows":71,"n_cols":66,"rows_kept":71,"cut":false,"hidden":false,"merged":[[1,29,1,31],[2,29,2,31],[3,29,3,31],[4,29,4,31],[0,28,0,31],[24,1,24,5],[25,1,25,5],[26,1,26,5],[27,1,27,5],[23,1,23,5],[9,1,9,5],[10,1,10,5],[11,1,11,5],[3,1,3,6],[4,1,4,6],[6,1,6,8],[22,1,22,5],[5,6,5,7],[17,1,17,5],[18,1,18,5],[19,1,19,5],[20,1,20,5],[21,1,21,5],[12,1,12,5],[28,1,28,5],[29,1,29,5],[30,1,30,5],[31,1,31,5],[68,7,68,9],[57,1,57,5],[63,7,64,9],[65,7,65,9],[66,7,66,9],[67,7,67,9],[58,1,58,5],[59,1,59,5],[60,0,60,6],[55,1,55,5],[56,1,56,5],[65,19,65,21],[66,19,66,21],[67,19,67,21],[68,19,68,21],[69,19,69,21],[70,19,70,21],[69,7,69,9],[63,10,63,12],[63,16,63,18],[65,13,65,15],[63,13,64,15],[66,13,66,15],[67,13,67,15],[68,13,68,15],[69,13,69,15],[63,19,64,21],[63,22,63,24],[62,7,62,27],[32,1,32,5],[39,1,39,5],[40,1,40,5],[41,1,41,5],[42,1,42,5],[33,1,33,5],[34,1,34,5],[35,1,35,5],[36,1,36,5],[37,1,37,5],[38,1,38,5],[48,1,48,5],[49,1,49,5],[50,1,50,5],[51,1,51,5],[52,1,52,5],[43,1,43,5],[53,1,53,5],[54,1,54,5],[7,57,7,59],[7,60,7,65],[44,1,44,5],[45,1,45,5],[46,1,46,5],[47,1,47,5],[0,0,0,6],[1,0,1,6],[7,29,7,31],[2,0,2,6],[8,29,8,31],[9,29,9,31],[10,29,10,31],[7,9,8,9],[7,15,8,15],[7,16,8,16],[7,0,8,0],[7,1,8,5],[7,6,8,6],[7,8,8,8],[7,17,8,17],[7,55,8,55],[7,26,8,26],[7,45,8,45],[7,46,8,46],[7,47,8,47],[7,48,8,48],[7,49,8,49],[7,50,8,50],[7,51,8,51],[7,54,8,54],[7,52,8,52],[7,53,8,53],[13,1,13,5],[14,1,14,5],[15,1,15,5],[16,1,16,5],[7,7,8,7],[5,1,5,3],[7,10,7,13],[11,29,11,31],[7,14,8,14],[5,29,5,31],[6,29,6,31],[7,18,7,19],[7,20,7,24]]}
["ESTADO DE MATO GROSSO DO SUL",null,null,null,null,null,null,null,null,null,null,null,null,null,null,null,null,null,null,null,null,null,null,null,null,null,null,null,"REFERÊNCIAS PARA AVALIAÇÃO DA QUESTÃO 10"]
["PREFEITURA MUNICIPAL DE CAMPO GRANDE",null,null,null,null,null,null,null,null,null,null,null,null,null,null,null,null,null,null,null,null,null,null,null,null,null,null,null,"A",{"$f":"GABARITO!Y4","v":"O estudante escreveu um texto coerente com a sequência de imagens."}]
["SECRETARIA MUNICIPAL DE EDUCAÇÃO",null,null,null,null,null,null,null,null,null,null,null,null,null,null,null,null,null,null,null,null,null,null,null,null,null,null,null,"B",{"$f":"GABARITO!Y5","v":"O estudante escreveu um texto que apresenta os elementos constitutivos de uma narrativa: (narrador, lugar/espaço, tempo, personagens praticando ação/ações)."}]
["ESCOLA:",{"$f":"IF(DADOS!B4=\"\",\"\",DADOS!B4)","v":""},null,null,null,null,null,null,null,null,null,null,null,null,null,null,null,null,null,null,null,null,null,null,null,null,null,null,"C",{"$f":"GABARITO!Y6","v":"O estudante escreveu o texto usando o espaço respeitando as direções da escrita (de cima para baixo e da esquerda para a direita), as margens direita e esquerda, linha e sequência da escrita - mudança de linha."}]
["PROFESSOR:",{"$f":"IF(DADOS!B5=\"\",\"\",DADOS!B5)","v":""},null,null,null,null,null,null,null,null,null,null,null,null,null,null,null,null,null,null,null,null,null,null,null,null,null,null,"D",{"$f":"GABARITO!Y7","v":"O estudante fez o uso adequado do sinal de pontuação (ponto final, ponto de interrogação e ponto de exclamação)."}]
["TURMA",{"$f":"DADOS!B6","v":0},null,null,"PERÍODO ",{"$f":"DADOS!F6","v":0},"N. ALUNOS",null,{"$f":"COUNTA(DADOS!B9:F59)","v":0},null,null,null,null,null,null,null,null,null,null,null,null,null,null,null,null,null,null,null,"E",{"$f":"GABARITO!Y8","v":"O estudante escreveu o texto sem ou com desvios ortográficos. Para a análise considerar a escrita ortográfica (sem ou poucos desvios ortográficos) e as hipóteses de escrita (alfabética, silábico-alfabética, silábica e pré-silábica)."}]
["DISCIPLINA",{"$f":"IF( DADOS!B7=\"\",\"\",DADOS!B7)","v":""},null,null,null,null,null,null,null,null,null,null,null,null,null,null,null,null,null,null,null,null,null,null,null,null,null,null,"F",{"$f":"GABARITO!Y9","v":"O estudante segmentou adequadamente as palavras do texto."}]
["N. ","NOME",null,null,null,null,"IDADE","QUESTÃO 1","QUESTÃO 2","QUESTÃO 3","QUESTÃO 4",null,null,null,"QUESTÃO 5","QUESTÃO 6","QUESTÃO 7","QUESTÃO 8","QUESTÃO 09",null,"QUESTÃO 10",null,null,null,null,null,"Situação",null,null,null,null,null,null,null,null,null,null,null,null,null,null,null,null,null,null,"QUESTÃO 1","QUESTÃO 2","QUESTÃO 3","QUESTÃO 4","QUESTÃO 5","QUESTÃO 6","QUESTÃO 7","QUESTÃO 8","QUESTÃO 9","QUESTÃO 10","TOTAL",null,"QUESTÃO 9",null,null,"QUESTÃO 10"]
[null,null,null,null,null,null,null,null,null,null,"A","B","C","D",null,null,null,null,"A","B","A","B","C","D","E","F",null,null,null,null,null,null,null,null,null,null,null,null,null,null,"A","B","C","D",null,null,null,null,null,null,null,null,null,null,null,null,null,"A","B",null,"A","B","C","D","E","F"]
[{"$f":"DADOS!A9","v":1},{"$f":"IF(DADOS!B9=\"\",\"\",DADOS!B9)","v":""},null,null,null,null,{"$f":"IF(B10=\"\",\"\",DADOS!H9)","v":""},null,null,null,null,null,null,null,null,null,null,null,null,null,null,null,null,null,null,null,{"$f":"IF(B10<>\"\",IF(BD10<=7,\"Regular\",IF(BD10>9,\"Avançado\",\"Proficiente\")),\"\")","v":""},null,null,null,null,null,null,null,null,null,null,null,null,null,{"$f":"IF(K10=\"\",\"\",IF(K10=$K$65,1,IF(K10=$L$65,0.5,0)))","v":""},{"$f":"IF(L10=\"\",\"\",IF(L10=$K$65,1,IF(L10=$L$65,0.5,0)))","v":""},{"$f":"IF(M10=\"\",\"\",IF(M10=$K$65,1,IF(M10=$L$65,0.5,0)))","v":""},{"$f":"IF(N10=\"\",\"\",IF(N10=$K$65,1,IF(N10=$L$65,0.5,0)))","v":""},null,{"$f":"IF(H10=GABARITO!$L$2,1,0)","v":0},{"$f":"IF(I10=GABARITO!$L$3,1,\"\")","v":""},{"$f":"IF(J10=GABARITO!$L$4,1,0)","v":0},{"$f":"IF(AO10=\"\",\"\",AVERAGE(AO10:AR10))","v":""},{"$f":"IF(O10=GABARITO!$L$6,1,0)","v":0},{"$f":"IF(P10=GABARITO!$L$7,1,0)","v":0},{"$f":"IF(Q10=GABARITO!$L$8,1,0)","v":0},{"$f":"IF(R10=GABARITO!$L$8,1,\"\")","v":""},{"$f":"IF(BF10=\"\",\"\",AVERAGE(BF10:BG10))","v":""},{"$f":"IF(BI10=\"\",\"\",AVERAGE(BI10:BN10))","v":""},{"$f":"ROUNDUP((SUM(AT10:BC10)),2)","v":0},null,{"$f":"IF(S10=\"\",\"\",IF(S10=$Q$65,1,IF(S10=$R$65,0.5,0)))","v":""},{"$f":"IF(T10=\"\",\"\",IF(T10=$Q$65,1,IF(T10=$R$65,0.5,0)))","v":""},null,{"$f":"IF(U10=\"\",\"\",IF(U10=$Q$65,1,IF(U10=$R$65,0.5,0)))","v":""},{"$f":"IF(V10=\"\",\"\",IF(V10=$Q$65,1,IF(V10=$R$65,0.5,0)))","v":""},{"$f":"IF(W10=\"\",\"\",IF(W10=$Q$65,1,IF(W10=$R$65,0.5,0)))","v":""},{"$f":"IF(X10=\"\",\"\",IF(X10=$Q$65,1,IF(X10=$R$65,0.5,0)))","v":""},{"$f":"IF(Y10=\"\",\"\",IF(Y10=$Q$65,1,IF(Y10=$R$65,0.5,0)))","v":""},{"$f":"IF(Z10=\"\",\"\",IF(Z10=$Q$65,1,IF(Z10=$R$65,0.5,0)))","v":""}]
[{"$f":"DADOS!A10","v":2},{"$f":"IF(DADOS!B10=\"\",\"\",DADOS!B10)","v":""},null,null,null,null,{"$f":"IF(B11=\"\",\"\",DADOS!H10)","v":""},null,null,null,null,null,null,null,null,null,null,null,null,null,null,null,null,null,null,null,"",null,null,null,null,null,null,null,null,null,null,null,null,null,"","","","",null,{"$f":"IF(H11=GABARITO!$L$2,1,0)","v":0},{"$f":"IF(I11=GABARITO!$L$3,1,\"\")","v":""},{"$f":"IF(J11=GABARITO!$L$4,1,0)","v":0},{"$f":"IF(AO11=\"\",\"\",AVERAGE(AO11:AR11))","v":""},{"$f":"IF(O11=GABARITO!$L$6,1,0)","v":0},{"$f":"IF(P11=GABARITO!$L$7,1,0)","v":0},{"$f":"IF(Q11=GABARITO!$L$8,1,0)","v":0},{"$f":"IF(R11=GABARITO!$L$8,1,\"\")","v":""},{"$f":"IF(BF11=\"\",\"\",AVERAGE(BF11:BG11))","v":""},{"$f":"IF(BI11=\"\",\"\",AVERAGE(BI11:BN11))","v":""},{"$f":"ROUNDUP((SUM(AT11:BC11)),2)","v":0},null,"","",null,"","","","","",""]
[{"$f":"DADOS!A11","v":3},{"$f":"IF(DADOS!B11=\"\",\"\",DADOS!B11)","v":""},null,null,null,null,{"$f":"IF(B12=\"\",\"\",DADOS!H11)","v":""},null,null,null,null,null,null,null,null,null,null,null,null,null,null,null,null,null,null,null,"",null,null,null,null,null,null,null,null,null,null,null,null,null,"","","","",null,{"$f":"IF(H12=GABARITO!$L$2,1,0)","v":0},{"$f":"IF(I12=GABARITO!$L$3,1,\"\")","v":""},{"$f":"IF(J12=GABARITO!$L$4,1,0)","v":0},"",{"$f":"IF(O12=GABARITO!$L$6,1,0)","v":0},{"$f":"IF(P12=GABARITO!$L$7,1,0)","v":0},{"$f":"IF(Q12=GABARITO!$L$8,1,0)","v":0},{"$f":"IF(R12=GABARITO!$L$8,1,\"\")","v":""},"","",0,null,"","",null,"","","","","",""]
[{"$f":"DADOS!A12","v":4},{"$f":"IF(DADOS!B12=\"\",\"\",DADOS!B12)","v":""},null,null,null,null,{"$f":"IF(B13=\"\",\"\",DADOS!H12)","v":""},null,null,null,null,null,null,null,null,null,null,null,null,null,null,null,null,null,null,null,"",null,null,null,null,null,null,null,null,null,null,null,null,null,"","","","",null,{"$f":"IF(H13=GABARITO!$L$2,1,0)","v":0},{"$f":"IF(I13=GABARITO!$L$3,1,\"\")","v":""},{"$f":"IF(J13=GABARITO!$L$4,1,0)","v":0},"",{"$f":"IF(O13=GABARITO!$L$6,1,0)","v":0},{"$f":"IF(P13=GABARITO!$L$7,1,0)","v":0},{"$f":"IF(Q13=GABARITO!$L$8,1,0)","v":0},{"$f":"IF(R13=GABARITO!$L$8,1,\"\")","v":""},"","",0,null,"","",null,"","","","","",""]
[{"$f":"DADOS!A13","v":5},{"$f":"IF(DADOS!B13=\"\",\"\",DADOS!B13)","v":""},null,null,null,null,{"$f":"IF(B14=\"\",\"\",DADOS!H13)","v":""},null,null,null,null,null,null,null,null,null,null,null,null,null,null,null,null,null,null,null,"",null,null,null,null,null,null,null,null,null,null,null,null,null,"","","","",null,{"$f":"IF(H14=GABARITO!$L$2,1,0)","v":0},{"$f":"IF(I14=GABARITO!$L$3,1,\"\")","v":""},{"$f":"IF(J14=GABARITO!$L$4,1,0)","v":0},"",{"$f":"IF(O14=GABARITO!$L$6,1,0)","v":0},{"$f":"IF(P14=GABARITO!$L$7,1,0)","v":0},{"$f":"IF(Q14=GABARITO!$L$8,1,0)","v":0},{"$f":"IF(R14=GABARITO!$L$8,1,\"\")","v":""},"","",0,null,"","",null,"","","","","",""]
[{"$f":"DADOS!A14","v":6},{"$f":"IF(DADOS!B14=\"\",\"\",DADOS!B14)","v":""},null,null,null,null,{"$f":"IF(B15=\"\",\"\",DADOS!H14)","v":""},null,null,null,null,null,null,null,null,null,null,null,null,null,null,null,null,null,null,null,"",null,null,null,null,null,null,null,null,null,null,null,null,null,"","","","",null,{"$f":"IF(H15=GABARITO!$L$2,1,0)","v":0},{"$f":"IF(I15=GABARITO!$L$3,1,\"\")","v":""},{"$f":"IF(J15=GABARITO!$L$4,1,0)","v":0},"",{"$f":"IF(O15=GABARITO!$L$6,1,0)","v":0},{"$f":"IF(P15=GABARITO!$L$7,1,0)","v":0},{"$f":"IF(Q15=GABARITO!$L$8,1,0)","v":0},{"$f":"IF(R15=GABARITO!$L$8,1,\"\")","v":""},"","",0,null,"","",null,"","","","","",""]
[{"$f":"DADOS!A15","v":7},{"$f":"IF(DADOS!B15=\"\",\"\",DADOS!B15)","v":""},null,null,null,null,{"$f":"IF(B16=\"\",\"\",DADOS!H15)","v":""},null,null,null,null,null,null,null,null,null,null,null,null,null,null,null,null,null,null,null,"",null,null,null,null,null,null,null,null,null,null,null,null,null,"","","","",null,{"$f":"IF(H16=GABARITO!$L$2,1,0)","v":0},{"$f":"IF(I16=GABARITO!$L$3,1,\"\")","v":""},{"$f":"IF(J16=GABARITO!$L$4,1,0)","v":0},"",{"$f":"IF(O16=GABARITO!$L$6,1,0)","v":0},{"$f":"IF(P16=GABARITO!$L$7,1,0)","v":0},{"$f":"IF(Q16=GABARITO!$L$8,1,0)","v":0},{"$f":"IF(R16=GABARITO!$L$8,1,\"\")","v":""},"","",0,null,"","",null,"","","","","",""]
[{"$f":"DADOS!A16","v":8},{"$f":"IF(DADOS!B16=\"\",\"\",DADOS!B16)","v":""},null,null,null,null,{"$f":"IF(B17=\"\",\"\",DADOS!H16)","v":""},null,null,null,null,null,null,null,null,null,null,null,null,null,null,null,null,null,null,null,"",null,null,null,null,null,null,null,null,null,null,null,null,null,"","","","",null,{"$f":"IF(H17=GABARITO!$L$2,1,0)","v":0},{"$f":"IF(I17=GABARITO!$L$3,1,\"\")","v":""},{"$f":"IF(J17=GABARITO!$L$4,1,0)","v":0},"",{"$f":"IF(O17=GABARITO!$L$6,1,0)","v":0},{"$f":"IF(P17=GABARITO!$L$7,1,0)","v":0},{"$f":"IF(Q17=GABARITO!$L$8,1,0)","v":0},{"$f":"IF(R17=GABARITO!$L$8,1,\"\")","v":""},"","",0,null,"","",null,"","","","","",""]
[{"$f":"DADOS!A17","v":9},{"$f":"IF(DADOS!B17=\"\",\"\",DADOS!B17)","v":""},null,null,null,null,{"$f":"IF(B18=\"\",\"\",DADOS!H17)","v":""},null,null,null,null,null,null,null,null,null,null,null,null,null,null,null,null,null,null,null,"",null,null,null,null,null,null,null,null,null,null,null,null,null,"","","","",null,{"$f":"IF(H18=GABARITO!$L$2,1,0)","v":0},{"$f":"IF(I18=GABARITO!$L$3,1,\"\")","v":""},{"$f":"IF(J18=GABARITO!$L$4,1,0)","v":0},"",{"$f":"IF(O18=GABARITO!$L$6,1,0)","v":0},{"$f":"IF(P18=GABARITO!$L$7,1,0)","v":0},{"$f":"IF(Q18=GABARITO!$L$8,1,0)","v":0},{"$f":"IF(R18=GABARITO!$L$8,1,\"\")","v":""},"","",0,null,"","",null,"","","","","",""]
[{"$f":"DADOS!A18","v":10},{"$f":"IF(DADOS!B18=\"\",\"\",DADOS!B18)","v":""},null,null,null,null,{"$f":"IF(B19=\"\",\"\",DADOS!H18)","v":""},null,null,null,null,null,null,null,null,null,null,null,null,null,null,null,null,null,null,null,"",null,null,null,null,null,null,null,null,null,null,null,null,null,"","","","",null,{"$f":"IF(H19=GABARITO!$L$2,1,0)","v":0},{"$f":"IF(I19=GABARITO!$L$3,1,\"\")","v":""},{"$f":"IF(J19=GABARITO!$L$4,1,0)","v":0},"",{"$f":"IF(O19=GABARITO!$L$6,1,0)","v":0},{"$f":"IF(P19=GABARITO!$L$7,1,0)","v":0},{"$f":"IF(Q19=GABARITO!$L$8,1,0)","v":0},{"$f":"IF(R19=GABARITO!$L$8,1,\"\")","v":""},"","",0,null,"","",null,"","","","","",""]
[{"$f":"DADOS!A19","v":11},{"$f":"IF(DADOS!B19=\"\",\"\",DADOS!B19)","v":""},null,null,null,null,{"$f":"IF(B20=\"\",\"\",DADOS!H19)","v":""},null,null,null,null,null,null,null,null,null,null,null,null,null,null,null,null,null,null,null,"",null,null,null,null,null,null,null,null,null,null,null,null,null,"","","","",null,{"$f":"IF(H20=GABARITO!$L$2,1,0)","v":0},{"$f":"IF(I20=GABARITO!$L$3,1,\"\")","v":""},{"$f":"IF(J20=GABARITO!$L$4,1,0)","v":0},"",{"$f":"IF(O20=GABARITO!$L$6,1,0)","v":0},{"$f":"IF(P20=GABARITO!$L$7,1,0)","v":0},{"$f":"IF(Q20=GABARITO!$L$8,1,0)","v":0},{"$f":"IF(R20=GABARITO!$L$8,1,\"\")","v":""},"","",0,null,"","",null,"","","","","",""]
[{"$f":"DADOS!A20","v":12},{"$f":"IF(DADOS!B20=\"\",\"\",DADOS!B20)","v":""},null,null,null,null,{"$f":"IF(B21=\"\",\"\",DADOS!H20)","v":""},null,null,null,null,null,null,null,null,null,null,null,null,null,null,null,null,null,null,null,"",null,null,null,null,null,null,null,null,null,null,null,null,null,"","","","",null,{"$f":"IF(H21=GABARITO!$L$2,1,0)","v":0},{"$f":"IF(I21=GABARITO!$L$3,1,\"\")","v":""},{"$f":"IF(J21=GABARITO!$L$4,1,0)","v":0},"",{"$f":"IF(O21=GABARITO!$L$6,1,0)","v":0},{"$f":"IF(P21=GABARITO!$L$7,1,0)","v":0},{"$f":"IF(Q21=GABARITO!$L$8,1,0)","v":0},{"$f":"IF(R21=GABARITO!$L$8,1,\"\")","v":""},"","",0,null,"","",null,"","","","","",""]
[{"$f":"DADOS!A21","v":13},{"$f":"IF(DADOS!B21=\"\",\"\",DADOS!B21)","v":""},null,null,null,null,{"$f":"IF(B22=\"\",\"\",DADOS!H21)","v":""},null,null,null,null,null,null,null,null,null,null,null,null,null,null,null,null,null,null,null,"",null,null,null,null,null,null,null,null,null,null,null,null,null,"","","","",null,{"$f":"IF(H22=GABARITO!$L$2,1,0)","v":0},{"$f":"IF(I22=GABARITO!$L$3,1,\"\")","v":""},{"$f":"IF(J22=GABARITO!$L$4,1,0)","v":0},"",{"$f":"IF(O22=GABARITO!$L$6,1,0)","v":0},{"$f":"IF(P22=GABARITO!$L$7,1,0)","v":0},{"$f":"IF(Q22=GABARITO!$L$8,1,0)","v":0},{"$f":"IF(R22=GABARITO!$L$8,1,\"\")","v":""},"","",0,null,"","",null,"","","","","",""]
[{"$f":"DADOS!A22","v":14},{"$f":"IF(DADOS!B22=\"\",\"\",DADOS!B22)","v":""},null,null,null,null,{"$f":"IF(B23=\"\",\"\",DADOS!H22)","v":""},null,null,null,null,null,null,null,null,null,null,null,null,null,null,null,null,null,null,null,"",null,null,null,null,null,null,null,null,null,null,null,null,null,"","","","",null,{"$f":"IF(H23=GABARITO!$L$2,1,0)","v":0},{"$f":"IF(I23=GABARITO!$L$3,1,\"\")","v":""},{"$f":"IF(J23=GABARITO!$L$4,1,0)","v":0},"",{"$f":"IF(O23=GABARITO!$L$6,1,0)","v":0},{"$f":"IF(P23=GABARITO!$L$7,1,0)","v":0},{"$f":"IF(Q23=GABARITO!$L$8,1,0)","v":0},{"$f":"IF(R23=GABARITO!$L$8,1,\"\")","v":""},"","",0,null,"","",null,"","","","","",""]
[{"$f":"DADOS!A23","v":15},{"$f":"IF(DADOS!B23=\"\",\"\",DADOS!B23)","v":""},null,null,null,null,{"$f":"IF(B24=\"\",\"\",DADOS!H23)","v":""},null,null,null,null,null,null,null,null,null,null,null,null,null,null,null,null,null,null,null,"",null,null,null,null,null,null,null,null,null,null,null,null,null,"","","","",null,{"$f":"IF(H24=GABARITO!$L$2,1,0)","v":0},{"$f":"IF(I24=GABARITO!$L$3,1,\"\")","v":""},{"$f":"IF(J24=GABARITO!$L$4,1,0)","v":0},"",{"$f":"IF(O24=GABARITO!$L$6,1,0)","v":0},{"$f":"IF(P24=GABARITO!$L$7,1,0)","v":0},{"$f":"IF(Q24=GABARITO!$L$8,1,0)","v":0},{"$f":"IF(R24=GABARITO!$L$8,1,\"\")","v":""},"","",0,null,"","",null,"","","","","",""]
[{"$f":"DADOS!A24","v":16},{"$f":"IF(DADOS!B24=\"\",\"\",DADOS!B24)","v":""},null,null,null,null,{"$f":"IF(B25=\"\",\"\",DADOS!H24)","v":""},null,null,null,null,null,null,null,null,null,null,null,null,null,null,null,null,null,null,null,"",null,null,null,null,null,null,null,null,null,null,null,null,null,"","","","",null,{"$f":"IF(H25=GABARITO!$L$2,1,0)","v":0},{"$f":"IF(I25=GABARITO!$L$3,1,\"\")","v":""},{"$f":"IF(J25=GABARITO!$L$4,1,0)","v":0},"",{"$f":"IF(O25=GABARITO!$L$6,1,0)","v":0},{"$f":"IF(P25=GABARITO!$L$7,1,0)","v":0},{"$f":"IF(Q25=GABARITO!$L$8,1,0)","v":0},{"$f":"IF(R25=GABARITO!$L$8,1,\"\")","v":""},"","",0,null,"","",null,"","","","","",""]
[{"$f":"DADOS!A25","v":17},{"$f":"IF(DADOS!B25=\"\",\"\",DADOS!B25)","v":""},null,null,null,null,{"$f":"IF(B26=\"\",\"\",DADOS!H25)","v":""},null,null,null,null,null,null,null,null,null,null,null,null,null,null,null,null,null,null,null,"",null,null,null,null,null,null,null,null,null,null,null,null,null,"","","","",null,{"$f":"IF(H26=GABARITO!$L$2,1,0)","v":0},{"$f":"IF(I26=GABARITO!$L$3,1,\"\")","v":""},{"$f":"IF(J26=GABARITO!$L$4,1,0)","v":0},"",{"$f":"IF(O26=GABARITO!$L$6,1,0)","v":0},{"$f":"IF(P26=GABARITO!$L$7,1,0)","v":0},{"$f":"IF(Q26=GABARITO!$L$8,1,0)","v":0},{"$f":"IF(R26=GABARITO!$L$8,1,\"\")","v":""},"","",0,null,"","",null,"","","","","",""]
[{"$f":"DADOS!A26","v":18},{"$f":"IF(DADOS!B26=\"\",\"\",DADOS!B26)","v":""},null,null,null,null,{"$f":"IF(B27=\"\",\"\",DADOS!H26)","v":""},null,null,null,null,null,null,null,null,null,null,null,null,null,null,null,null,null,null,null,"",null,null,null,null,null,null,null,null,null,null,null,null,null,"","","","",null,{"$f":"IF(H27=GABARITO!$L$2,1,0)","v":0},{"$f":"IF(I27=GABARITO!$L$3,1,\"\")","v":""},{"$f":"IF(J27=GABARITO!$L$4,1,0)","v":0},"",{"$f":"IF(O27=GABARITO!$L$6,1,0)","v":0},{"$f":"IF(P27=GABARITO!$L$7,1,0)","v":0},{"$f":"IF(Q27=GABARITO!$L$8,1,0)","v":0},{"$f":"IF(R27=GABARITO!$L$8,1,\"\")","v":""},"","",0,null,"","",null,"","","","","",""]
[{"$f":"DADOS!A27","v":19},{"$f":"IF(DADOS!B27=\"\",\"\",DADOS!B27)","v":""},null,null,null,null,{"$f":"IF(B28=\"\",\"\",DADOS!H27)","v":""},null,null,null,null,null,null,null,null,null,null,null,null,null,null,null,null,null,null,null,"",null,null,null,null,null,null,null,null,null,null,null,null,null,"","","","",null,{"$f":"IF(H28=GABARITO!$L$2,1,0)","v":0},{"$f":"IF(I28=GABARITO!$L$3,1,\"\")","v":""},{"$f":"IF(J28=GABARITO!$L$4,1,0)","v":0},"",{"$f":"IF(O28=GABARITO!$L$6,1,0)","v":0},{"$f":"IF(P28=GABARITO!$L$7,1,0)","v":0},{"$f":"IF(Q28=GABARITO!$L$8,1,0)","v":0},{"$f":"IF(R28=GABARITO!$L$8,1,\"\")","v":""},"","",0,null,"","",null,"","","","","",""]
[{"$f":"DADOS!A28","v":20},{"$f":"IF(DADOS!B28=\"\",\"\",DADOS!B28)","v":""},null,null,null,null,{"$f":"IF(B29=\"\",\"\",DADOS!H28)","v":""},null,null,null,null,null,null,null,null,null,null,null,null,null,null,null,null,null,null,null,"",null,null,null,null,null,null,null,null,null,null,null,null,null,"","","","",null,{"$f":"IF(H29=GABARITO!$L$2,1,0)","v":0},{"$f":"IF(I29=GABARITO!$L$3,1,\"\")","v":""},{"$f":"IF(J29=GABARITO!$L$4,1,0)","v":0},"",{"$f":"IF(O29=GABARITO!$L$6,1,0)","v":0},{"$f":"IF(P29=GABARITO!$L$7,1,0)","v":0},{"$f":"IF(Q29=GABARITO!$L$8,1,0)","v":0},{"$f":"IF(R29=GABARITO!$L$8,1,\"\")","v":""},"","",0,null,"","",null,"","","","","",""]
[{"$f":"DADOS!A29","v":21},{"$f":"IF(DADOS!B29=\"\",\"\",DADOS!B29)","v":""},null,null,null,null,{"$f":"IF(B30=\"\",\"\",DADOS!H29)","v":""},null,null,null,null,null,null,null,null,null,null,null,null,null,null,null,null,null,null,null,"",null,null,null,null,null,null,null,null,null,null,null,null,null,"","","","",null,{"$f":"IF(H30=GABARITO!$L$2,1,0)","v":0},{"$f":"IF(I30=GABARITO!$L$3,1,\"\")","v":""},{"$f":"IF(J30=GABARITO!$L$4,1,0)","v":0},"",{"$f":"IF(O30=GABARITO!$L$6,1,0)","v":0},{"$f":"IF(P30=GABARITO!$L$7,1,0)","v":0},{"$f":"IF(Q30=GABARITO!$L$8,1,0)","v":0},{"$f":"IF(R30=GABARITO!$L$8,1,\"\")","v":""},"","",0,null,"","",null,"","","","","",""]
[{"$f":"DADOS!A30","v":22},{"$f":"IF(DADOS!B30=\"\",\"\",DADOS!B30)","v":""},null,null,null,null,{"$f":"IF(B31=\"\",\"\",DADOS!H30)","v":""},null,null,null,null,null,null,null,null,null,null,null,null,null,null,null,null,null,null,null,"",null,null,null,null,null,null,null,null,null,null,null,null,null,"","","","",null,{"$f":"IF(H31=GABARITO!$L$2,1,0)","v":0},{"$f":"IF(I31=GABARITO!$L$3,1,\"\")","v":""},{"$f":"IF(J31=GABARITO!$L$4,1,0)","v":0},"",{"$f":"IF(O31=GABARITO!$L$6,1,0)","v":0},{"$f":"IF(P31=GABARITO!$L$7,1,0)","v":0},{"$f":"IF(Q31=GABARITO!$L$8,1,0)","v":0},{"$f":"IF(R31=GABARITO!$L$8,1,\"\")","v":""},"","",0,null,"","",null,"","","","","",""]
[{"$f":"DADOS!A31","v":23},{"$f":"IF(DADOS!B31=\"\",\"\",DADOS!B31)","v":""},null,null,null,null,{"$f":"IF(B32=\"\",\"\",DADOS!H31)","v":""},null,null,null,null,null,null,null,null,null,null,null,null,null,null,null,null,null,null,null,"",null,null,null,null,null,null,null,null,null,null,null,null,null,"","","","",null,{"$f":"IF(H32=GABARITO!$L$2,1,0)","v":0},{"$f":"IF(I32=GABARITO!$L$3,1,\"\")","v":""},{"$f":"IF(J32=GABARITO!$L$4,1,0)","v":0},"",{"$f":"IF(O32=GABARITO!$L$6,1,0)","v":0},{"$f":"IF(P32=GABARITO!$L$7,1,0)","v":0},{"$f":"IF(Q32=GABARITO!$L$8,1,0)","v":0},{"$f":"IF(R32=GABARITO!$L$8,1,\"\")","v":""},"","",0,null,"","",null,"","","","","",""]
[{"$f":"DADOS!A32","v":24},{"$f":"IF(DADOS!B32=\"\",\"\",DADOS!B32)","v":""},null,null,null,null,{"$f":"IF(B33=\"\",\"\",DADOS!H32)","v":""},null,null,null,null,null,null,null,null,null,null,null,null,null,null,null,null,null,null,null,"",null,null,null,null,null,null,null,null,null,null,null,null,null,"","","","",null,{"$f":"IF(H33=GABARITO!$L$2,1,0)","v":0},{"$f":"IF(I33=GABARITO!$L$3,1,\"\")","v":""},{"$f":"IF(J33=GABARITO!$L$4,1,0)","v":0},"",{"$f":"IF(O33=GABARITO!$L$6,1,0)","v":0},{"$f":"IF(P33=GABARITO!$L$7,1,0)","v":0},{"$f":"IF(Q33=GABARITO!$L$8,1,0)","v":0},{"$f":"IF(R33=GABARITO!$L$8,1,\"\")","v":""},"","",0,null,"","",null,"","","","","",""]
[{"$f":"DADOS!A33","v":25},{"$f":"IF(DADOS!B33=\"\",\"\",DADOS!B33)","v":""},null,null,null,null,{"$f":"IF(B34=\"\",\"\",DADOS!H33)","v":""},null,null,null,null,null,null,null,null,null,null,null,null,null,null,null,null,null,null,null,"",null,null,null,null,null,null,null,null,null,null,null,null,null,"","","","",null,{"$f":"IF(H34=GABARITO!$L$2,1,0)","v":0},{"$f":"IF(I34=GABARITO!$L$3,1,\"\")","v":""},{"$f":"IF(J34=GABARITO!$L$4,1,0)","v":0},"",{"$f":"IF(O34=GABARITO!$L$6,1,0)","v":0},{"$f":"IF(P34=GABARITO!$L$7,1,0)","v":0},{"$f":"IF(Q34=GABARITO!$L$8,1,0)","v":0},{"$f":"IF(R34=GABARITO!$L$8,1,\"\")","v":""},"","",0,null,"","",null,"","","","","",""]
[{"$f":"DADOS!A34","v":26},{"$f":"IF(DADOS!B34=\"\",\"\",DADOS!B34)","v":""},null,null,null,null,{"$f":"IF(B35=\"\",\"\",DADOS!H34)","v":""},null,null,null,null,null,null,null,null,null,null,null,null,null,null,null,null,null,null,null,"",null,null,null,null,null,null,null,null,null,null,null,null,null,"","","","",null,{"$f":"IF(H35=GABARITO!$L$2,1,0)","v":0},{"$f":"IF(I35=GABARITO!$L$3,1,\"\")","v":""},{"$f":"IF(J35=GABARITO!$L$4,1,0)","v":0},"",{"$f":"IF(O35=GABARITO!$L$6,1,0)","v":0},{"$f":"IF(P35=GABARITO!$L$7,1,0)","v":0},{"$f":"IF(Q35=GABARITO!$L$8,1,0)","v":0},{"$f":"IF(R35=GABARITO!$L$8,1,\"\")","v":""},"","",0,null,"","",null,"","","","","",""]
[{"$f":"DADOS!A35","v":27},{"$f":"IF(DADOS!B35=\"\",\"\",DADOS!B35)","v":""},null,null,null,null,{"$f":"IF(B36=\"\",\"\",DADOS!H35)","v":""},null,null,null,null,null,null,null,null,null,null,null,null,null,null,null,null,null,null,null,"",null,null,null,null,null,null,null,null,null,null,null,null,null,"","","","",null,{"$f":"IF(H36=GABARITO!$L$2,1,0)","v":0},{"$f":"IF(I36=GABARITO!$L$3,1,\"\")","v":""},{"$f":"IF(J36=GABARITO!$L$4,1,0)","v":0},"",{"$f":"IF(O36=GABARITO!$L$6,1,0)","v":0},{"$f":"IF(P36=GABARITO!$L$7,1,0)","v":0},{"$f":"IF(Q36=GABARITO!$L$8,1,0)","v":0},{"$f":"IF(R36=GABARITO!$L$8,1,\"\")","v":""},"","",0,null,"","",null,"","","","","",""]
[{"$f":"DADOS!A36","v":28},{"$f":"IF(DADOS!B36=\"\",\"\",DADOS!B36)","v":""},null,null,null,null,{"$f":"IF(B37=\"\",\"\",DADOS!H36)","v":""},null,null,null,null,null,null,null,null,null,null,null,null,null,null,null,null,null,null,null,"",null,null,null,null,null,null,null,null,null,null,null,null,null,"","","","",null,{"$f":"IF(H37=GABARITO!$L$2,1,0)","v":0},{"$f":"IF(I37=GABARITO!$L$3,1,\"\")","v":""},{"$f":"IF(J37=GABARITO!$L$4,1,0)","v":0},"",{"$f":"IF(O37=GABARITO!$L$6,1,0)","v":0},{"$f":"IF(P37=GABARITO!$L$7,1,0)","v":0},{"$f":"IF(Q37=GABARITO!$L$8,1,0)","v":0},{"$f":"IF(R37=GABARITO!$L$8,1,\"\")","v":""},"","",0,null,"","",null,"","","","","",""]
[{"$f":"DADOS!A37","v":29},{"$f":"IF(DADOS!B37=\"\",\"\",DADOS!B37)","v":""},null,null,null,null,{"$f":"IF(B38=\"\",\"\",DADOS!H37)","v":""},null,null,null,null,null,null,null,null,null,null,null,null,null,null,null,null,null,null,null,"",null,null,null,null,null,null,null,null,null,null,null,null,null,"","","","",null,{"$f":"IF(H38=GABARITO!$L$2,1,0)","v":0},{"$f":"IF(I38=GABARITO!$L$3,1,\"\")","v":""},{"$f":"IF(J38=GABARITO!$L$4,1,0)","v":0},"",{"$f":"IF(O38=GABARITO!$L$6,1,0)","v":0},{"$f":"IF(P38=GABARITO!$L$7,1,0)","v":0},{"$f":"IF(Q38=GABARITO!$L$8,1,0)","v":0},{"$f":"IF(R38=GABARITO!$L$8,1,\"\")","v":""},"","",0,null,"","",null,"","","","","",""]
[{"$f":"DADOS!A38","v":30},{"$f":"IF(DADOS!B38=\"\",\"\",DADOS!B38)","v":""},null,null,null,null,{"$f":"IF(B39=\"\",\"\",DADOS!H38)","v":""},null,null,null,null,null,null,null,null,null,null,null,null,null,null,null,null,null,null,null,"",null,null,null,null,null,null,null,null,null,null,null,null,null,"","","","",null,{"$f":"IF(H39=GABARITO!$L$2,1,0)","v":0},{"$f":"IF(I39=GABARITO!$L$3,1,\"\")","v":""},{"$f":"IF(J39=GABARITO!$L$4,1,0)","v":0},"",{"$f":"IF(O39=GABARITO!$L$6,1,0)","v":0},{"$f":"IF(P39=GABARITO!$L$7,1,0)","v":0},{"$f":"IF(Q39=GABARITO!$L$8,1,0)","v":0},{"$f":"IF(R39=GABARITO!$L$8,1,\"\")","v":""},"","",0,null,"","",null,"","","","","",""]
[{"$f":"DADOS!A39","v":31},{"$f":"IF(DADOS!B39=\"\",\"\",DADOS!B39)","v":""},null,null,null,null,{"$f":"IF(B40=\"\",\"\",DADOS!H39)","v":""},null,null,null,null,null,null,null,null,null,null,null,null,null,null,null,null,null,null,null,"",null,null,null,null,null,null,null,null,null,null,null,null,null,"","","","",null,{"$f":"IF(H40=GABARITO!$L$2,1,0)","v":0},{"$f":"IF(I40=GABARITO!$L$3,1,\"\")","v":""},{"$f":"IF(J40=GABARITO!$L$4,1,0)","v":0},"",{"$f":"IF(O40=GABARITO!$L$6,1,0)","v":0},{"$f":"IF(P40=GABARITO!$L$7,1,0)","v":0},{"$f":"IF(Q40=GABARITO!$L$8,1,0)","v":0},{"$f":"IF(R40=GABARITO!$L$8,1,\"\")","v":""},"","",0,null,"","",null,"","","","","",""]
[{"$f":"DADOS!A40","v":32},{"$f":"IF(DADOS!B40=\"\",\"\",DADOS!B40)","v":""},null,null,null,null,{"$f":"IF(B41=\"\",\"\",DADOS!H40)","v":""},null,null,null,null,null,null,null,null,null,null,null,null,null,null,null,null,null,null,null,"",null,null,null,null,null,null,null,null,null,null,null,null,null,"","","","",null,{"$f":"IF(H41=GABARITO!$L$2,1,0)","v":0},{"$f":"IF(I41=GABARITO!$L$3,1,\"\")","v":""},{"$f":"IF(J41=GABARITO!$L$4,1,0)","v":0},"",{"$f":"IF(O41=GABARITO!$L$6,1,0)","v":0},{"$f":"IF(P41=GABARITO!$L$7,1,0)","v":0},{"$f":"IF(Q41=GABARITO!$L$8,1,0)","v":0},{"$f":"IF(R41=GABARITO!$L$8,1,\"\")","v":""},"","",0,null,"","",null,"","","","","",""]
[{"$f":"DADOS!A41","v":33},{"$f":"IF(DADOS!B41=\"\",\"\",DADOS!B41)","v":""},null,null,null,null,{"$f":"IF(B42=\"\",\"\",DADOS!H41)","v":""},null,null,null,null,null,null,null,null,null,null,null,null,null,null,null,null,null,null,null,{"$f":"IF(B42<>\"\",IF(BD42<=7,\"Regular\",IF(BD42>9,\"Avançado\",\"Proficiente\")),\"\")","v":""},null,null,null,null,null,null,null,null,null,null,null,null,null,{"$f":"IF(K42=\"\",\"\",IF(K42=$K$65,1,IF(K42=$L$65,0.5,0)))","v":""},{"$f":"IF(L42=\"\",\"\",IF(L42=$K$65,1,IF(L42=$L$65,0.5,0)))","v":""},{"$f":"IF(M42=\"\",\"\",IF(M42=$K$65,1,IF(M42=$L$65,0.5,0)))","v":""},{"$f":"IF(N42=\"\",\"\",IF(N42=$K$65,1,IF(N42=$L$65,0.5,0)))","v":""},null,{"$f":"IF(H42=GABARITO!$L$2,1,0)","v":0},{"$f":"IF(I42=GABARITO!$L$3,1,\"\")","v":""},{"$f":"IF(J42=GABARITO!$L$4,1,0)","v":0},"",{"$f":"IF(O42=GABARITO!$L$6,1,0)","v":0},{"$f":"IF(P42=GABARITO!$L$7,1,0)","v":0},{"$f":"IF(Q42=GABARITO!$L$8,1,0)","v":0},{"$f":"IF(R42=GABARITO!$L$8,1,\"\")","v":""},"","",0,null,{"$f":"IF(S42=\"\",\"\",IF(S42=$Q$65,1,IF(S42=$R$65,0.5,0)))","v":""},{"$f":"IF(T42=\"\",\"\",IF(T42=$Q$65,1,IF(T42=$R$65,0.5,0)))","v":""},null,{"$f":"IF(U42=\"\",\"\",IF(U42=$Q$65,1,IF(U42=$R$65,0.5,0)))","v":""},{"$f":"IF(V42=\"\",\"\",IF(V42=$Q$65,1,IF(V42=$R$65,0.5,0)))","v":""},{"$f":"IF(W42=\"\",\"\",IF(W42=$Q$65,1,IF(W42=$R$65,0.5,0)))","v":""},{"$f":"IF(X42=\"\",\"\",IF(X42=$Q$65,1,IF(X42=$R$65,0.5,0)))","v":""},{"$f":"IF(Y42=\"\",\"\",IF(Y42=$Q$65,1,IF(Y42=$R$65,0.5,0)))","v":""},{"$f":"IF(Z42=\"\",\"\",IF(Z42=$Q$65,1,IF(Z42=$R$65,0.5,0)))","v":""}]
[{"$f":"DADOS!A42","v":34},{"$f":"IF(DADOS!B42=\"\",\"\",DADOS!B42)","v":""},null,null,null,null,{"$f":"IF(B43=\"\",\"\",DADOS!H42)","v":""},null,null,null,null,null,null,null,null,null,null,null,null,null,null,null,null,null,null,null,"",null,null,null,null,null,null,null,null,null,null,null,null,null,"","","","",null,{"$f":"IF(H43=GABARITO!$L$2,1,0)","v":0},{"$f":"IF(I43=GABARITO!$L$3,1,\"\")","v":""},{"$f":"IF(J43=GABARITO!$L$4,1,0)","v":0},"",{"$f":"IF(O43=GABARITO!$L$6,1,0)","v":0},{"$f":"IF(P43=GABARITO!$L$7,1,0)","v":0},{"$f":"IF(Q43=GABARITO!$L$8,1,0)","v":0},{"$f":"IF(R43=GABARITO!$L$8,1,\"\")","v":""},"","",0,null,"","",null,"","","","","",""]
[{"$f":"DADOS!A43","v":35},{"$f":"IF(DADOS!B43=\"\",\"\",DADOS!B43)","v":""},null,null,null,null,{"$f":"IF(B44=\"\",\"\",DADOS!H43)","v":""},null,null,null,null,null,null,null,null,null,null,null,null,null,null,null,null,null,null,null,"",null,null,null,null,null,null,null,null,null,null,null,null,null,"","","","",null,{"$f":"IF(H44=GABARITO!$L$2,1,0)","v":0},{"$f":"IF(I44=GABARITO!$L$3,1,\"\")","v":""},{"$f":"IF(J44=GABARITO!$L$4,1,0)","v":0},"",{"$f":"IF(O44=GABARITO!$L$6,1,0)","v":0},{"$f":"IF(P44=GABARITO!$L$7,1,0)","v":0},{"$f":"IF(Q44=GABARITO!$L$8,1,0)","v":0},{"$f":"IF(R44=GABARITO!$L$8,1,\"\")","v":""},"","",0,null,"","",null,"","","","","",""]
[{"$f":"DADOS!A44","v":36},{"$f":"IF(DADOS!B44=\"\",\"\",DADOS!B44)","v":""},null,null,null,null,{"$f":"IF(B45=\"\",\"\",DADOS!H44)","v":""},null,null,null,null,null,null,null,null,null,null,null,null,null,null,null,null,null,null,null,"",null,null,null,null,null,null,null,null,null,null,null,null,null,"","","","",null,{"$f":"IF(H45=GABARITO!$L$2,1,0)","v":0},{"$f":"IF(I45=GABARITO!$L$3,1,\"\")","v":""},{"$f":"IF(J45=GABARITO!$L$4,1,0)","v":0},"",{"$f":"IF(O45=GABARITO!$L$6,1,0)","v":0},{"$f":"IF(P45=GABARITO!$L$7,1,0)","v":0},{"$f":"IF(Q45=GABARITO!$L$8,1,0)","v":0},{"$f":"IF(R45=GABARITO!$L$8,1,\"\")","v":""},"","",0,null,"","",null,"","","","","",""]
[{"$f":"DADOS!A45","v":37},{"$f":"IF(DADOS!B45=\"\",\"\",DADOS!B45)","v":""},null,null,null,null,{"$f":"IF(B46=\"\",\"\",DADOS!H45)","v":""},null,null,null,null,null,null,null,null,null,null,null,null,null,null,null,null,null,null,null,"",null,null,null,null,null,null,null,null,null,null,null,null,null,"","","","",null,{"$f":"IF(H46=GABARITO!$L$2,1,0)","v":0},{"$f":"IF(I46=GABARITO!$L$3,1,\"\")","v":""},{"$f":"IF(J46=GABARITO!$L$4,1,0)","v":0},"",{"$f":"IF(O46=GABARITO!$L$6,1,0)","v":0},{"$f":"IF(P46=GABARITO!$L$7,1,0)","v":0},{"$f":"IF(Q46=GABARITO!$L$8,1,0)","v":0},{"$f":"IF(R46=GABARITO!$L$8,1,\"\")","v":""},"","",0,null,"","",null,"","","","","",""]
[{"$f":"DADOS!A46","v":38},{"$f":"IF(DADOS!B46=\"\",\"\",DADOS!B46)","v":""},null,null,null,null,{"$f":"IF(B47=\"\",\"\",DADOS!H46)","v":""},null,null,null,null,null,null,null,null,null,null,null,null,null,null,null,null,null,null,null,"",null,null,null,null,null,null,null,null,null,null,null,null,null,"","","","",null,{"$f":"IF(H47=GABARITO!$L$2,1,0)","v":0},{"$f":"IF(I47=GABARITO!$L$3,1,\"\")","v":""},{"$f":"IF(J47=GABARITO!$L$4,1,0)","v":0},"",{"$f":"IF(O47=GABARITO!$L$6,1,0)","v":0},{"$f":"IF(P47=GABARITO!$L$7,1,0)","v":0},{"$f":"IF(Q47=GABARITO!$L$8,1,0)","v":0},{"$f":"IF(R47=GABARITO!$L$8,1,\"\")","v":""},"","",0,null,"","",null,"","","","","",""]
[{"$f":"DADOS!A47","v":39},{"$f":"IF(DADOS!B47=\"\",\"\",DADOS!B47)","v":""},null,null,null,null,{"$f":"IF(B48=\"\",\"\",DADOS!H47)","v":""},null,null,null,null,null,null,null,null,null,null,null,null,null,null,null,null,null,null,null,"",null,null,null,null,null,null,null,null,null,null,null,null,null,"","","","",null,{"$f":"IF(H48=GABARITO!$L$2,1,0)","v":0},{"$f":"IF(I48=GABARITO!$L$3,1,\"\")","v":""},{"$f":"IF(J48=GABARITO!$L$4,1,0)","v":0},"",{"$f":"IF(O48=GABARITO!$L$6,1,0)","v":0},{"$f":"IF(P48=GABARITO!$L$7,1,0)","v":0},{"$f":"IF(Q48=GABARITO!$L$8,1,0)","v":0},{"$f":"IF(R48=GABARITO!$L$8,1,\"\")","v":""},"","",0,null,"","",null,"","","","","",""]
[{"$f":"DADOS!A48","v":40},{"$f":"IF(DADOS!B48=\"\",\"\",DADOS!B48)","v":""},null,null,null,null,{"$f":"IF(B49=\"\",\"\",DADOS!H48)","v":""},null,null,null,null,null,null,null,null,null,null,null,null,null,null,null,null,null,null,null,"",null,null,null,null,null,null,null,null,null,null,null,null,null,"","","","",null,{"$f":"IF(H49=GABARITO!$L$2,1,0)","v":0},{"$f":"IF(I49=GABARITO!$L$3,1,\"\")","v":""},{"$f":"IF(J49=GABARITO!$L$4,1,0)","v":0},"",{"$f":"IF(O49=GABARITO!$L$6,1,0)","v":0},{"$f":"IF(P49=GABARITO!$L$7,1,0)","v":0},{"$f":"IF(Q49=GABARITO!$L$8,1,0)","v":0},{"$f":"IF(R49=GABARITO!$L$8,1,\"\")","v":""},"","",0,null,"","",null,"","","","","",""]
[{"$f":"DADOS!A49","v":41},{"$f":"IF(DADOS!B49=\"\",\"\",DADOS!B49)","v":""},null,null,null,null,{"$f":"IF(B50=\"\",\"\",DADOS!H49)","v":""},null,null,null,null,null,null,null,null,null,null,null,null,null,null,null,null,null,null,null,"",null,null,null,null,null,null,null,null,null,null,null,null,null,"","","","",null,{"$f":"IF(H50=GABARITO!$L$2,1,0)","v":0},{"$f":"IF(I50=GABARITO!$L$3,1,\"\")","v":""},{"$f":"IF(J50=GABARITO!$L$4,1,0)","v":0},"",{"$f":"IF(O50=GABARITO!$L$6,1,0)","v":0},{"$f":"IF(P50=GABARITO!$L$7,1,0)","v":0},{"$f":"IF(Q50=GABARITO!$L$8,1,0)","v":0},{"$f":"IF(R50=GABARITO!$L$8,1,\"\")","v":""},"","",0,null,"","",null,"","","","","",""]
[{"$f":"DADOS!A50","v":42},{"$f":"IF(DADOS!B50=\"\",\"\",DADOS!B50)","v":""},null,null,null,null,{"$f":"IF(B51=\"\",\"\",DADOS!H50)","v":""},null,null,null,null,null,null,null,null,null,null,null,null,null,null,null,null,null,null,null,"",null,null,null,null,null,null,null,null,null,null,null,null,null,"","","","",null,{"$f":"IF(H51=GABARITO!$L$2,1,0)","v":0},{"$f":"IF(I51=GABARITO!$L$3,1,\"\")","v":""},{"$f":"IF(J51=GABARITO!$L$4,1,0)","v":0},"",{"$f":"IF(O51=GABARITO!$L$6,1,0)","v":0},{"$f":"IF(P51=GABARITO!$L$7,1,0)","v":0},{"$f":"IF(Q51=GABARITO!$L$8,1,0)","v":0},{"$f":"IF(R51=GABARITO!$L$8,1,\"\")","v":""},"","",0,null,"","",null,"","","","","",""]
[{"$f":"DADOS!A51","v":43},{"$f":"IF(DADOS!B51=\"\",\"\",DADOS!B51)","v":""},null,null,null,null,{"$f":"IF(B52=\"\",\"\",DADOS!H51)","v":""},null,null,null,null,null,null,null,null,null,null,null,null,null,null,null,null,null,null,null,"",null,null,null,null,null,null,null,null,null,null,null,null,null,"","","","",null,{"$f":"IF(H52=GABARITO!$L$2,1,0)","v":0},{"$f":"IF(I52=GABARITO!$L$3,1,\"\")","v":""},{"$f":"IF(J52=GABARITO!$L$4,1,0)","v":0},"",{"$f":"IF(O52=GABARITO!$L$6,1,0)","v":0},{"$f":"IF(P52=GABARITO!$L$7,1,0)","v":0},{"$f":"IF(Q52=GABARITO!$L$8,1,0)","v":0},{"$f":"IF(R52=GABARITO!$L$8,1,\"\")","v":""},"","",0,null,"","",null,"","","","","",""]
[{"$f":"DADOS!A52","v":44},{"$f":"IF(DADOS!B52=\"\",\"\",DADOS!B52)","v":""},null,null,null,null,{"$f":"IF(B53=\"\",\"\",DADOS!H52)","v":""},null,null,null,null,null,null,null,null,null,null,null,null,null,null,null,null,null,null,null,"",null,null,null,null,null,null,null,null,null,null,null,null,null,"","","","",null,{"$f":"IF(H53=GABARITO!$L$2,1,0)","v":0},{"$f":"IF(I53=GABARITO!$L$3,1,\"\")","v":""},{"$f":"IF(J53=GABARITO!$L$4,1,0)","v":0},"",{"$f":"IF(O53=GABARITO!$L$6,1,0)","v":0},{"$f":"IF(P53=GABARITO!$L$7,1,0)","v":0},{"$f":"IF(Q53=GABARITO!$L$8,1,0)","v":0},{"$f":"IF(R53=GABARITO!$L$8,1,\"\")","v":""},"","",0,null,"","",null,"","","","","",""]
[{"$f":"DADOS!A53","v":45},{"$f":"IF(DADOS!B53=\"\",\"\",DADOS!B53)","v":""},null,null,null,null,{"$f":"IF(B54=\"\",\"\",DADOS!H53)","v":""},null,null,null,null,null,null,null,null,null,null,null,null,null,null,null,null,null,null,null,"",null,null,null,null,null,null,null,null,null,null,null,null,null,"","","","",null,{"$f":"IF(H54=GABARITO!$L$2,1,0)","v":0},{"$f":"IF(I54=GABARITO!$L$3,1,\"\")","v":""},{"$f":"IF(J54=GABARITO!$L$4,1,0)","v":0},"",{"$f":"IF(O54=GABARITO!$L$6,1,0)","v":0},{"$f":"IF(P54=GABARITO!$L$7,1,0)","v":0},{"$f":"IF(Q54=GABARITO!$L$8,1,0)","v":0},{"$f":"IF(R54=GABARITO!$L$8,1,\"\")","v":""},"","",0,null,"","",null,"","","","","",""]
[{"$f":"DADOS!A54","v":46},{"$f":"IF(DADOS!B54=\"\",\"\",DADOS!B54)","v":""},null,null,null,null,{"$f":"IF(B55=\"\",\"\",DADOS!H54)","v":""},null,null,null,null,null,null,null,null,null,null,null,null,null,null,null,null,null,null,null,"",null,null,null,null,null,null,null,null,null,null,null,null,null,"","","","",null,{"$f":"IF(H55=GABARITO!$L$2,1,0)","v":0},{"$f":"IF(I55=GABARITO!$L$3,1,\"\")","v":""},{"$f":"IF(J55=GABARITO!$L$4,1,0)","v":0},"",{"$f":"IF(O55=GABARITO!$L$6,1,0)","v":0},{"$f":"IF(P55=GABARITO!$L$7,1,0)","v":0},{"$f":"IF(Q55=GABARITO!$L$8,1,0)","v":0},{"$f":"IF(R55=GABARITO!$L$8,1,\"\")","v":""},"","",0,null,"","",null,"","","","","",""]
[{"$f":"DADOS!A55","v":47},{"$f":"IF(DADOS!B55=\"\",\"\",DADOS!B55)","v":""},null,null,null,null,{"$f":"IF(B56=\"\",\"\",DADOS!H55)","v":""},null,null,null,null,null,null,null,null,null,null,null,null,null,null,null,null,null,null,null,"",null,null,null,null,null,null,null,null,null,null,null,null,null,"","","","",null,{"$f":"IF(H56=GABARITO!$L$2,1,0)","v":0},{"$f":"IF(I56=GABARITO!$L$3,1,\"\")","v":""},{"$f":"IF(J56=GABARITO!$L$4,1,0)","v":0},"",{"$f":"IF(O56=GABARITO!$L$6,1,0)","v":0},{"$f":"IF(P56=GABARITO!$L$7,1,0)","v":0},{"$f":"IF(Q56=GABARITO!$L$8,1,0)","v":0},{"$f":"IF(R56=GABARITO!$L$8,1,\"\")","v":""},"","",0,null,"","",null,"","","","","",""]
[{"$f":"DADOS!A56","v":48},{"$f":"IF(DADOS!B56=\"\",\"\",DADOS!B56)","v":""},null,null,null,null,{"$f":"IF(B57=\"\",\"\",DADOS!H56)","v":""},null,null,null,null,null,null,null,null,null,null,null,null,null,null,null,null,null,null,null,"",null,null,null,null,null,null,null,null,null,null,null,null,null,"","","","",null,{"$f":"IF(H57=GABARITO!$L$2,1,0)","v":0},{"$f":"IF(I57=GABARITO!$L$3,1,\"\")","v":""},{"$f":"IF(J57=GABARITO!$L$4,1,0)","v":0},"",{"$f":"IF(O57=GABARITO!$L$6,1,0)","v":0},{"$f":"IF(P57=GABARITO!$L$7,1,0)","v":0},{"$f":"IF(Q57=GABARITO!$L$8,1,0)","v":0},{"$f":"IF(R57=GABARITO!$L$8,1,\"\")","v":""},"","",0,null,"","",null,"","","","","",""]
[{"$f":"DADOS!A57","v":49},{"$f":"IF(DADOS!B57=\"\",\"\",DADOS!B57)","v":""},null,null,null,null,{"$f":"IF(B58=\"\",\"\",DADOS!H57)","v":""},null,null,null,null,null,null,null,null,null,null,null,null,null,null,null,null,null,null,null,"",null,null,null,null,null,null,null,null,null,null,null,null,null,"","","","",null,{"$f":"IF(H58=GABARITO!$L$2,1,0)","v":0},{"$f":"IF(I58=GABARITO!$L$3,1,\"\")","v":""},{"$f":"IF(J58=GABARITO!$L$4,1,0)","v":0},"",{"$f":"IF(O58=GABARITO!$L$6,1,0)","v":0},{"$f":"IF(P58=GABARITO!$L$7,1,0)","v":0},{"$f":"IF(Q58=GABARITO!$L$8,1,0)","v":0},{"$f":"IF(R58=GABARITO!$L$8,1,\"\")","v":""},"","",0,null,"","",null,"","","","","",""]
[{"$f":"DADOS!A58","v":50},{"$f":"IF(DADOS!B58=\"\",\"\",DADOS!B58)","v":""},null,null,null,null,{"$f":"IF(B59=\"\",\"\",DADOS!H58)","v":""},null,null,null,null,null,null,null,null,null,null,null,null,null,null,null,null,null,null,null,"",null,null,null,null,null,null,null,null,null,null,null,null,null,"","","","",null,{"$f":"IF(H59=GABARITO!$L$2,1,0)","v":0},{"$f":"IF(I59=GABARITO!$L$3,1,\"\")","v":""},{"$f":"IF(J59=GABARITO!$L$4,1,0)","v":0},"",{"$f":"IF(O59=GABARITO!$L$6,1,0)","v":0},{"$f":"IF(P59=GABARITO!$L$7,1,0)","v":0},{"$f":"IF(Q59=GABARITO!$L$8,1,0)","v":0},{"$f":"IF(R59=GABARITO!$L$8,1,\"\")","v":""},"","",0,null,"","",null,"","","","","",""]
[{"$f":"DADOS!A59","v":51},{"$f":"IF(DADOS!B59=\"\",\"\",DADOS!B59)","v":""},null,null,null,null,{"$f":"IF(B60=\"\",\"\",DADOS!H59)","v":""},null,null,null,null,null,null,null,null,null,null,null,null,null,null,null,null,null,null,null,"",null,null,null,null,null,null,null,null,null,null,null,null,null,"","","","",null,{"$f":"IF(H60=GABARITO!$L$2,1,0)","v":0},{"$f":"IF(I60=GABARITO!$L$3,1,\"\")","v":""},{"$f":"IF(J60=GABARITO!$L$4,1,0)","v":0},"",{"$f":"IF(O60=GABARITO!$L$6,1,0)","v":0},{"$f":"IF(P60=GABARITO!$L$7,1,0)","v":0},{"$f":"IF(Q60=GABARITO!$L$8,1,0)","v":0},{"$f":"IF(R60=GABARITO!$L$8,1,\"\")","v":""},"","",0,null,"","",null,"","","","","",""]
[null,null,null,null,null,null,null,{"$f":"COUNTIF(H10:H60,GABARITO!$L2)","v":0},{"$f":"COUNTIF(I10:I60,GABARITO!$L3)","v":0},{"$f":"COUNTIF(J10:J60,GABARITO!$L4)","v":0},null,null,null,null,{"$f":"COUNTIF(O10:O60,GABARITO!$L6)","v":0},{"$f":"COUNTIF(P10:P60,GABARITO!$L7)","v":0},{"$f":"COUNTIF(Q10:Q60,GABARITO!$L8)","v":0},{"$f":"COUNTIF(R10:R60,GABARITO!$L9)","v":0}]
[null,null,null,null,null,null,null,1,2,3,null,null,null,null,4,5,6,7,8]
[null,null,null,null,null,null,null,"RESUMO"]
[null,null,null,null,null,null,null,"CRITÉRIOS",null,null,{"$f":"K8","v":"QUESTÃO 4"},null,null,"CRITÉRIOS",null,null,"QUESTÃO 9",null,null,"CRITÉRIOS",null,null,{"$f":"U8","v":"QUESTÃO 10"}]
[null,null,null,null,null,null,null,null,null,null,"SIM","PARCIALMENTE","NÃO",null,null,null,"SIM","PARCIALMENTE","NÃO",null,null,null,"SIM","PARCIALMENTE","NÃO"]
[null,null,null,null,null,null,null,{"$f":"GABARITO!P4","v":"O estudante escreveu corretamente."},null,null,{"$f":"IF($I$6=0,\"\",AVERAGE(IF($I$6=0,\"\",COUNTIF($K$10:$K$60,K$65)),IF($I$6=0,\"\",COUNTIF($L$10:$L$60,Q$65)),IF($I$6=0,\"\",COUNTIF($M$10:$M$60,Q$65)),IF($I$6=0,\"\",COUNTIF($N$10:$N$60,Q$65))))","v":""},{"$f":"IF($I$6=0,\"\",AVERAGE(IF($I$6=0,\"\",COUNTIF($K$10:$K$60,L$65)),IF($I$6=0,\"\",COUNTIF($L$10:$L$60,R$65)),IF($I$6=0,\"\",COUNTIF($M$10:$M$60,R$65)),IF($I$6=0,\"\",COUNTIF($N$10:$N$60,R$65))))","v":""},"",{"$f":"GABARITO!P4","v":"O estudante escreveu corretamente."},null,null,{"$f":"IF($I$6=0,\"\",AVERAGE(IF($I$6=0,\"\",COUNTIF($S$10:$S$60,Q$65)),IF($I$6=0,\"\",COUNTIF($T$10:$T$60,Q$65)))/$I$6)","v":""},{"$f":"IF($I$6=0,\"\",AVERAGE(IF($I$6=0,\"\",COUNTIF($S$10:$S$60,R$65)),IF($I$6=0,\"\",COUNTIF($T$10:$T$60,R$65)))/$I$6)","v":""},"",{"$f":"GABARITO!Y4","v":"O estudante escreveu um texto coerente com a sequência de imagens."},null,null,{"$f":"IF($I$6=0,\"\",COUNTIF($U$10:$U$60,W$65)/$I$6)","v":""},{"$f":"IF($I$6=0,\"\",COUNTIF($U$10:$U$60,X$65)/$I$6)","v":""},{"$f":"IF($I$6=0,\"\",COUNTIF($U$10:$U$60,Y$65)/$I$6)","v":""}]
[null,null,null,null,null,null,null,null,null,null,null,null,null,null,null,null,null,null,null,{"$f":"GABARITO!Y5","v":"O estudante escreveu um texto que apresenta os elementos constitutivos de uma narrativa: (narrador, lugar/espaço, tempo, personagens praticando ação/ações)."},null,null,{"$f":"IF($I$6=0,\"\",COUNTIF($V$10:$V$60,W$65)/$I$6)","v":""},{"$f":"IF($I$6=0,\"\",COUNTIF($V$10:$V$60,X$65)/$I$6)","v":""},{"$f":"IF($I$6=0,\"\",COUNTIF($V$10:$V$60,Y$65)/$I$6)","v":""}]
[null,null,null,null,null,null,null,null,null,null,null,null,null,null,null,null,null,null,null,{"$f":"GABARITO!Y6","v":"O estudante escreveu o texto usando o espaço respeitando as direções da escrita (de cima para baixo e da esquerda para a direita), as margens direita e esquerda, linha e sequência da escrita - mudança de linha."},null,null,{"$f":"IF($I$6=0,\"\",COUNTIF($W$10:$W$60,W$65)/$I$6)","v":""},{"$f":"IF($I$6=0,\"\",COUNTIF($W$10:$W$60,X$65)/$I$6)","v":""},{"$f":"IF($I$6=0,\"\",COUNTIF($W$10:$W$60,Y$65)/$I$6)","v":""}]
[null,null,null,null,null,null,null,null,null,null,null,null,null,null,null,null,null,null,null,{"$f":"GABARITO!Y7","v":"O estudante fez o uso adequado do sinal de pontuação (ponto final, ponto de interrogação e ponto de exclamação)."},null,null,{"$f":"IF($I$6=0,\"\",COUNTIF($X$10:$X$60,W$65)/$I$6)","v":""},{"$f":"IF($I$6=0,\"\",COUNTIF($X$10:$X$60,X$65)/$I$6)","v":""},""]
[null,null,null,null,null,null,null,null,null,null,null,null,null,null,null,null,null,null,null,{"$f":"GABARITO!Y8","v":"O estudante escreveu o texto sem ou com desvios ortográficos. Para a análise considerar a escrita ortográfica (sem ou poucos desvios ortográficos) e as hipóteses de escrita (alfabética, silábico-alfabética, silábica e pré-silábica)."},null,null,{"$f":"IF($I$6=0,\"\",COUNTIF($Y$10:$Y$60,W$65)/$I$6)","v":""},{"$f":"IF($I$6=0,\"\",COUNTIF($Y$10:$Y$60,X$65)/$I$6)","v":""},{"$f":"IF($I$6=0,\"\",COUNTIF($Y$10:$Y$60,Y$65)/$I$6)","v":""}]
[null,null,null,null,null,null,null,null,null,null,null,null,null,null,null,null,null,null,null,{"$f":"GABARITO!Y9","v":"O estudante segmentou adequadamente as palavras do texto."},null,null,{"$f":"IF($I$6=0,\"\",COUNTIF($Z$10:$Z$60,W$65)/$I$6)","v":""},{"$f":"IF($I$6=0,\"\",COUNTIF($Z$10:$Z$60,X$65)/$I$6)","v":""},{"$f":"IF($I$6=0,\"\",COUNTIF($Z$10:$Z$60,Y$65)/$I$6)","v":""}]

{"sheet":"GRÁFICOS","index":2,"n_rows":26,"n_cols":20,"rows_kept":26,"cut":false,"hidden":false,"merged":[[0,0,0,26],[1,0,1,26],[2,0,2,26],[3,0,3,26],[4,0,4,26],[5,0,5,7],[5,9,5,16],[5,19,5,26],[25,19,25,26],[25,0,25,10]]}
["ESTADO DE MATO GROSSO DO SUL"]
["PREFEITURA MUNICIPAL DE CAMPO GRANDE"]
["SECRETARIA MUNICIPAL DE EDUCAÇÃO"]
[{"$f":"IF(DADOS!B4=\"\",\"\",DADOS!B4)","v":""}]
[{"$f":"_xlfn.TEXTJOIN(\"- \",0,DADOS!A7,DADOS!B7,DADOS!A6,DADOS!B6,DADOS!E6,DADOS!F6)","v":{"$error":"#NAME?"}}]
["QUESTÕES OBJETIVAS",null,null,null,null,null,null,null,null,"QUESTÃO 04",null,null,null,null,null,null,null,null,null,"QUESTÃO 09"]
[]
[]
[]
[]
[]
[]
[]
[]
[]
[]
[]
[]
[]
[]
[]
[]
[]
[]
[]
["QUESTAO 10"]

{"sheet":"GABARITO","index":3,"n_rows":21,"n_cols":25,"rows_kept":21,"cut":false,"hidden":false,"merged":[[11,1,11,6],[12,1,12,6],[7,1,7,10],[8,1,8,10],[9,1,9,10],[10,1,10,10],[22,1,22,6],[23,1,23,6],[24,1,24,6],[18,1,18,10],[21,1,21,10],[19,1,19,10],[20,1,20,10],[31,1,31,6],[32,1,32,6],[33,1,33,6],[0,1,0,10],[1,1,1,10],[2,1,2,10],[3,1,3,10],[4,1,4,10],[5,1,5,10],[6,1,6,10],[25,1,25,6],[26,1,26,6],[27,1,27,6],[28,1,28,6],[29,1,29,6],[30,1,30,6],[1,13,1,22],[3,24,3,30],[4,24,4,30],[5,24,5,30],[2,23,2,30],[13,1,13,10],[14,1,14,10],[15,1,15,10],[16,1,16,10],[17,1,17,10],[7,24,7,30],[8,24,8,30],[2,14,2,21],[3,15,3,21],[4,15,4,21],[5,15,5,21],[6,15,6,21],[7,15,7,21],[6,24,6,30]]}
["QUESTÃO","HABILIDADE AVALIADA",null,null,null,null,null,null,null,null,null,"Gabarito","%"]
[1,"(CG. EF35LP05.s) Inferir o sentido de palavras ou expressões desconhecidas em textos, com base no contexto da frase ou do texto.",null,null,null,null,null,null,null,null,null,"D",{"$f":"IF('1º SEMESTRE'!I$6=0,\"\",('1º SEMESTRE'!H$61)/('1º SEMESTRE'!I$6))","v":""},"OBS: As cores indicam questões que serão avaliadas com a mesma habilidade. As questões 9 e 10 são questões descritivas e que devem ser avaliadas de acordo com o critério listados abaixo."]
[2,"(CG.EF05LP09.s) Ler e compreender, com autonomia, textos instrucionais de regras de jogo, dentre outros gêneros do campo da vida cotidiana, de acordo com as convenções do gênero e considerando a situação comunicativa e a finalidade do texto.",null,null,null,null,null,null,null,null,null,"B",{"$f":"IF('1º SEMESTRE'!I$6=0,\"\",('1º SEMESTRE'!I$61)/('1º SEMESTRE'!I$6))","v":""},null,"REFERÊNCIAS PARA AVALIAÇÃO DA QUESTÃO 9",null,null,null,null,null,null,null,null,"REFERÊNCIAS PARA AVALIAÇÃO DA QUESTÃO 10"]
[3,"(CG.EF35LP23.s) Apreciar poemas e outros textos versificados, observando rimas, aliterações e diferentes modos de divisão dos versos, estrofes e refrões e seu efeito de sentido.",null,null,null,null,null,null,null,null,null,"B",{"$f":"IF('1º SEMESTRE'!I$6=0,\"\",('1º SEMESTRE'!J$61)/('1º SEMESTRE'!I$6))","v":""},null,"A","O estudante escreveu corretamente.",null,null,null,null,null,null,null,"A","O estudante escreveu um texto coerente com a sequência de imagens."]
[4,"CG.EF15LP04.s) Identificar o efeito de sentido produzido pelo uso de recursos expressivos gráfico-visuais em textos multissemióticos.",null,null,null,null,null,null,null,null,null,"PESSOAL",{"$f":"IF('1º SEMESTRE'!I$6=0,\"\",SUM('1º SEMESTRE'!K66,'1º SEMESTRE'!L66,)/('1º SEMESTRE'!I$6))","v":""},null,null,null,null,null,null,null,null,null,null,"B","O estudante escreveu um texto que apresenta os elementos constitutivos de uma narrativa: (narrador, lugar/espaço, tempo, personagens praticando ação/ações)."]
[5,"CG.EF35LP03.s) Identificar a ideia central do texto, demonstrando compreensão global.",null,null,null,null,null,null,null,null,null,"B",{"$f":"IF('1º SEMESTRE'!I$6=0,\"\",('1º SEMESTRE'!O$61)/('1º SEMESTRE'!I$6))","v":""},null,null,null,null,null,null,null,null,null,null,"C","O estudante escreveu o texto usando o espaço respeitando as direções da escrita (de cima para baixo e da esquerda para a direita), as margens direita e esquerda, linha e sequência da escrita - mudança de linha."]
[6,"CG.EF35LP03.s) Identificar a ideia central do texto, demonstrando compreensão global. ",null,null,null,null,null,null,null,null,null,"A",{"$f":"IF('1º SEMESTRE'!I$6=0,\"\",('1º SEMESTRE'!P$61)/('1º SEMESTRE'!I$6))","v":""},null,null,null,null,null,null,null,null,null,null,"D","O estudante fez o uso adequado do sinal de pontuação (ponto final, ponto de interrogação e ponto de exclamação)."]
[7,"CG.EF15LP04.s) Identificar o efeito de sentido produzido pelo uso de recursos expressivos gráfico-visuais em textos multissemióticos.",null,null,null,null,null,null,null,null,null,"B",{"$f":"IF('1º SEMESTRE'!I$6=0,\"\",('1º SEMESTRE'!Q$61)/('1º SEMESTRE'!I$6))","v":""},null,null,null,null,null,null,null,null,null,null,"E","O estudante escreveu o texto sem ou com desvios ortográficos. Para a análise considerar a escrita ortográfica (sem ou poucos desvios ortográficos) e as hipóteses de escrita (alfabética, silábico-alfabética, silábica e pré-silábica)."]
[8,"CG.EF35LP04.s) Inferir informações implícitas nos textos lidos.",null,null,null,null,null,null,null,null,null,"D",{"$f":"IF('1º SEMESTRE'!I$6=0,\"\",('1º SEMESTRE'!R$61)/('1º SEMESTRE'!I$6))","v":""},null,null,null,null,null,null,null,null,null,null,"F","O estudante segmentou adequadamente as palavras do texto."]
[9,"(CG.EF35LP07.s) Utilizar, ao produzir um texto, conhecimentos linguísticos e gramaticais, tais como ortografia, regras básicas de concordância nominal e verbal, pontuação (ponto final, ponto de exclamação, ponto de interrogação, vírgulas em enumerações) e pontuação do discurso direto, quando for o caso. ",null,null,null,null,null,null,null,null,null,"vide os critérios",{"$f":"IF('1º SEMESTRE'!I$6=0,\"\",AVERAGE(SUM('1º SEMESTRE'!Q66:R66),SUM('1º SEMESTRE'!Q67:R67),SUM('1º SEMESTRE'!Q68:R68),SUM('1º SEMESTRE'!Q69:R69),SUM('1º SEMESTRE'!Q70:R70))/('1º SEMESTRE'!I$6))","v":""}]
[10,"(CG.EF35LP07.s) Utilizar, ao produzir um texto, conhecimentos linguísticos e gramaticais, tais como ortografia, regras básicas de concordância nominal e verbal, pontuação (ponto final, ponto de exclamação, ponto de interrogação, vírgulas em enumerações) e pontuação do discurso direto, quando for o caso. ",null,null,null,null,null,null,null,null,null,"vide os critérios",{"$f":"IF('1º SEMESTRE'!I$6=0,\"\",AVERAGE(SUM('1º SEMESTRE'!W66:X66),SUM('1º SEMESTRE'!W67:X67),SUM('1º SEMESTRE'!W68:X68),SUM('1º SEMESTRE'!W69:X69),SUM('1º SEMESTRE'!W70:X70),SUM('1º SEMESTRE'!W71:X71))/('1º SEMESTRE'!I$6))","v":""}]
[]
[]
[null,"RESULTADO POR HABILIDADE",null,null,null,null,null,null,null,null,null,"RESULTADO"]
[null,{"$f":"IF(B2=\"\",\"\",B2)","v":"(CG. EF35LP05.s) Inferir o sentido de palavras ou expressões desconhecidas em textos, com base no contexto da frase ou do texto."},null,null,null,null,null,null,null,null,null,{"$f":"IF('1º SEMESTRE'!$I$6= 0,\" \",AVERAGE('1º SEMESTRE'!H61)/'1º SEMESTRE'!$I$6)","v":" "}]
[null,{"$f":"IF(B3=\"\",\"\",B3)","v":"(CG.EF05LP09.s) Ler e compreender, com autonomia, textos instrucionais de regras de jogo, dentre outros gêneros do campo da vida cotidiana, de acordo com as convenções do gênero e considerando a situação comunicativa e a finalidade do texto."},null,null,null,null,null,null,null,null,null,{"$f":"IF('1º SEMESTRE'!$I$6= 0,\" \",AVERAGE('1º SEMESTRE'!I61)/'1º SEMESTRE'!$I6)","v":" "}]
[null,"(CG.EF35LP23.s) Apreciar poemas e outros textos versificados, observando rimas, aliterações e diferentes modos de divisão dos versos, estrofes e refrões e seu efeito de sentido.",null,null,null,null,null,null,null,null,null,{"$f":"IF('1º SEMESTRE'!$I$6= 0,\" \",AVERAGE('1º SEMESTRE'!J61)/'1º SEMESTRE'!$I$6)","v":" "}]
[null,{"$f":"IF(B5=\"\",\"\",B5)","v":"CG.EF15LP04.s) Identificar o efeito de sentido produzido pelo uso de recursos expressivos gráfico-visuais em textos multissemióticos."},null,null,null,null,null,null,null,null,null,{"$f":"IF('1º SEMESTRE'!$I$6=0,\" \",AVERAGE((ROUNDUP(AVERAGE(SUM('1º SEMESTRE'!K66:L66),SUM('1º SEMESTRE'!K67:L67),SUM('1º SEMESTRE'!K68:L68),SUM('1º SEMESTRE'!K69:L69),SUM('1º SEMESTRE'!K70:L70),0),'1º SEMESTRE'!Q61))/'1º SEMESTRE'!$I$6))","v":" "}]
[null,{"$f":"IF(B6=\"\",\"\",B6)","v":"CG.EF35LP03.s) Identificar a ideia central do texto, demonstrando compreensão global."},null,null,null,null,null,null,null,null,null,{"$f":"IF('1º SEMESTRE'!$I$6= 0,\" \",AVERAGE('1º SEMESTRE'!O61,'1º SEMESTRE'!P61)/'1º SEMESTRE'!$I$6)","v":" "}]
[null,{"$f":"IF(B9=\"\",\"\",B9)","v":"CG.EF35LP04.s) Inferir informações implícitas nos textos lidos."},null,null,null,null,null,null,null,null,null,{"$f":"IF('1º SEMESTRE'!$I$6= 0,\" \",AVERAGE('1º SEMESTRE'!R61)/'1º SEMESTRE'!$I$6)","v":" "}]
[null,{"$f":"IF(B10=\"\",\"\",B10)","v":"(CG.EF35LP07.s) Utilizar, ao produzir um texto, conhecimentos linguísticos e gramaticais, tais como ortografia, regras básicas de concordância nominal e verbal, pontuação (ponto final, ponto de exclamação, ponto de interrogação, vírgulas em enumerações) e pontuação do discurso direto, quando for o caso. "},null,null,null,null,null,null,null,null,null,{"$f":"IF('1º SEMESTRE'!$I$6=0,\" \",AVERAGE(ROUNDUP(AVERAGE(SUM('1º SEMESTRE'!Q66:R66),SUM('1º SEMESTRE'!Q67:R67),SUM('1º SEMESTRE'!Q68:R68),SUM('1º SEMESTRE'!Q69:R69),SUM('1º SEMESTRE'!Q70:R70),SUM('1º SEMESTRE'!W66:X66),SUM('1º SEMESTRE'!W67:X67),SUM('1º SEMESTRE'!W68:X68),SUM('1º SEMESTRE'!W69:X69),SUM('1º SEMESTRE'!W70:X70),SUM('1º SEMESTRE'!W71:X71)),0),'1º SEMESTRE'!Q61)/'1º SEMESTRE'!$I$6)","v":" "}]